{
 "version": 1.0,
 "tileBundlesPath": "./tile",
 "tileInfo": {
  "spatialReference": {
   "wkid": 103130,
   "latestWkid": 6551
  },
  "origin": {
   "x": -119670700,
   "y": 1.4766550000000003E8
  },
  "rows": 256,
  "cols": 256,
  "dpi": 96,
  "lods": [
   {
    "level": 0,
    "resolution": 174.04513888888889,
    "scale": 200500
   },
   {
    "level": 1,
    "resolution": 87.02256944444444,
    "scale": 100250
   },
   {
    "level": 2,
    "resolution": 43.51128472222222,
    "scale": 50125
   },
   {
    "level": 3,
    "resolution": 21.75564236111111,
    "scale": 25062.5
   },
   {
    "level": 4,
    "resolution": 10.877821180555555,
    "scale": 12531.25
   },
   {
    "level": 5,
    "resolution": 5.438910590277778,
    "scale": 6265.625
   },
   {
    "level": 6,
    "resolution": 2.7194557291666666,
    "scale": 3132.813
   },
   {
    "level": 7,
    "resolution": 1.3597274305555553,
    "scale": 1566.406
   },
   {
    "level": 8,
    "resolution": 0.6798638020833333,
    "scale": 783.2031
   }
  ],
  "format": "MIXED",
  "compressionQuality": 75,
  "bandCount": 1,
  "lercError": 0,
  "storageFormat": "esriMapCacheStorageModeCompactV2",
  "packetSize": 128
 },
 "storageInfo": {
  "packetSize": 128,
  "storageFormat": "esriMapCacheStorageModeCompactV2"
 },
 "tileImageInfo": {
  "format": "MIXED",
  "compressionQuality": 75,
  "bandCount": 1,
  "lercError": 0
 },
 "name": "exported2023TilePackage",
 "minLOD": 0,
 "maxLOD": 8,
 "spatialReference": {
  "wkid": 103130,
  "latestWkid": 6551
 },
 "units": "esriFeet",
 "serviceDescription": "",
 "resampling": true,
 "initialExtent": {
  "xmin": 2320031.7729421854,
  "ymin": 675312.1175612385,
  "xmax": 2475791.9693184877,
  "ymax": 796752.1093445718,
  "spatialReference": {
   "wkid": 103130,
   "latestWkid": 6551
  }
 },
 "fullExtent": {
  "xmin": 2320031.7729421854,
  "ymin": 675312.1175612385,
  "xmax": 2475791.9693184877,
  "ymax": 796752.1093445718,
  "spatialReference": {
   "wkid": 103130,
   "latestWkid": 6551
  }
 },
 "minScale": 200500,
 "maxScale": 783.2031,
 "exportTilesAllowed": false,
 "maxExportTilesCount": 0,
 "currentVersion": 11.5,
 "mapName": "exported2023TilePackage",
 "singleFusedMapCache": true,
 "type": "MapServer",
 "supportedExtensions": "",
 "capabilities": "TilesOnly,Tilemap",
 "serviceItemId": "17df9bf371b841b4add773233610a9b1"
}
