{
 "currentVersion": 11.0,
 "cimVersion": "3.0.0",
 "serviceDescription": "",
 "mapName": "OSIP2020_TileCacheExport",
 "description": "",
 "copyrightText": "",
 "supportsDynamicLayers": false,
 "layers": [
  {
   "id": 0,
   "name": "OSIP2020_TileCacheExport",
   "parentLayerId": -1,
   "defaultVisibility": true,
   "subLayerIds": null,
   "minScale": 0,
   "maxScale": 0,
   "type": "Raster Layer",
   "supportsDynamicLegends": true
  }
 ],
 "tables": [],
 "spatialReference": {
  "wkid": 103130,
  "latestWkid": 6551,
  "xyTolerance": 0.003280833333333333,
  "zTolerance": 0.001,
  "mTolerance": 0.001,
  "falseX": -119670700,
  "falseY": -95612900,
  "xyUnits": 3.702424569851244E7,
  "falseZ": -100000,
  "zUnits": 10000,
  "falseM": -100000,
  "mUnits": 10000
 },
 "singleFusedMapCache": true,
 "tileInfo": {
  "rows": 256,
  "cols": 256,
  "dpi": 96,
  "format": "MIXED",
  "compressionQuality": 75,
  "origin": {
   "x": -119670700,
   "y": 1.4766550000000003E8
  },
  "spatialReference": {
   "wkid": 103130,
   "latestWkid": 6551,
   "xyTolerance": 0.003280833333333333,
   "zTolerance": 0.001,
   "mTolerance": 0.001,
   "falseX": -119670700,
   "falseY": -95612900,
   "xyUnits": 3.702424569851244E7,
   "falseZ": -100000,
   "zUnits": 10000,
   "falseM": -100000,
   "mUnits": 10000
  },
  "lods": [
   {
    "level": 0,
    "resolution": 174.04513888888889,
    "scale": 200500
   },
   {
    "level": 1,
    "resolution": 87.02256944444444,
    "scale": 100250
   },
   {
    "level": 2,
    "resolution": 43.51128472222222,
    "scale": 50125
   },
   {
    "level": 3,
    "resolution": 21.75564236111111,
    "scale": 25062.5
   },
   {
    "level": 4,
    "resolution": 10.877821180555555,
    "scale": 12531.25
   },
   {
    "level": 5,
    "resolution": 5.438910590277778,
    "scale": 6265.625
   },
   {
    "level": 6,
    "resolution": 2.7194557291666666,
    "scale": 3132.813
   },
   {
    "level": 7,
    "resolution": 1.3597274305555553,
    "scale": 1566.406
   },
   {
    "level": 8,
    "resolution": 0.6798638020833333,
    "scale": 783.2031
   }
  ]
 },
 "storageInfo": {
  "storageFormat": "esriMapCacheStorageModeCompact",
  "packetSize": 128
 },
 "initialExtent": {
  "xmin": 2312248.4881767975,
  "ymin": 669000.058063551,
  "xmax": 2482747.8598367455,
  "ymax": 801000.1023391237,
  "spatialReference": {
   "wkid": 103130,
   "latestWkid": 6551,
   "xyTolerance": 0.003280833333333333,
   "zTolerance": 0.001,
   "mTolerance": 0.001,
   "falseX": -119670700,
   "falseY": -95612900,
   "xyUnits": 3.702424569851244E7,
   "falseZ": -100000,
   "zUnits": 10000,
   "falseM": -100000,
   "mUnits": 10000
  }
 },
 "fullExtent": {
  "xmin": 2319998.459615886,
  "ymin": 675000.060076077,
  "xmax": 2474997.888397657,
  "ymax": 795000.1003265977,
  "spatialReference": {
   "wkid": 103130,
   "latestWkid": 6551,
   "xyTolerance": 0.003280833333333333,
   "zTolerance": 0.001,
   "mTolerance": 0.001,
   "falseX": -119670700,
   "falseY": -95612900,
   "xyUnits": 3.702424569851244E7,
   "falseZ": -100000,
   "zUnits": 10000,
   "falseM": -100000,
   "mUnits": 10000
  }
 },
 "datesInUnknownTimezone": false,
 "units": "esriFeet",
 "supportedImageFormatTypes": "PNG32,PNG24,PNG,JPG,DIB,TIFF,EMF,PS,PDF,GIF,SVG,SVGZ,BMP",
 "documentInfo": {
  "Title": "C:\\Users\\ARGISA~1\\AppData\\Local\\Temp\\2\\ArcGISProTemp11076\\EE47A89D-BE20-49A1-AB68-1CD6280F7E18.msd",
  "Author": "",
  "Comments": "",
  "Subject": "",
  "Category": "",
  "Version": "1.0.0",
  "AntialiasingMode": "None",
  "TextAntialiasingMode": "Force",
  "Keywords": ""
 },
 "supportedQueryFormats": "JSON, geoJSON, PBF",
 "referenceScale": 0.0,
 "supportsDatumTransformation": true,
 "archivingInfo": {
  "supportsHistoricMoment": false
 },
 "supportsClipping": true,
 "supportsSpatialFilter": true,
 "supportsTimeRelation": true,
 "supportsQueryDataElements": true,
 "maxRecordCount": 1000,
 "maxImageHeight": 4096,
 "maxImageWidth": 4096,
 "capabilities": "TilesOnly,Tilemap",
 "minLOD": 0,
 "maxLOD": 8,
 "minScale": 0,
 "maxScale": 0,
 "exportTilesAllowed": false,
 "maxExportTilesCount": 0,
 "supportedExtensions": "",
 "serviceItemId": "c8bf9077308a415782b2c151f0bf5027"
}
